BEGIN:VCALENDAR
VERSION:2.0
PRODID:-//New Anglia Growth Hub - ECPv6.15.1//NONSGML v1.0//EN
CALSCALE:GREGORIAN
METHOD:PUBLISH
X-ORIGINAL-URL:https://bedotdev.com/newanglia
X-WR-CALDESC:Events for New Anglia Growth Hub
REFRESH-INTERVAL;VALUE=DURATION:PT1H
X-Robots-Tag:noindex
X-PUBLISHED-TTL:PT1H
BEGIN:VTIMEZONE
TZID:Europe/London
BEGIN:DAYLIGHT
TZOFFSETFROM:+0000
TZOFFSETTO:+0100
TZNAME:BST
DTSTART:20210328T010000
END:DAYLIGHT
BEGIN:STANDARD
TZOFFSETFROM:+0100
TZOFFSETTO:+0000
TZNAME:GMT
DTSTART:20211031T010000
END:STANDARD
END:VTIMEZONE
BEGIN:VEVENT
DTSTART;TZID=Europe/London:20211117T093000
DTEND;TZID=Europe/London:20211117T223000
DTSTAMP:20260425T153048
CREATED:20211015T104536Z
LAST-MODIFIED:20211015T104536Z
UID:55884-1637141400-1637188200@bedotdev.com
SUMMARY:SUNA Masterclass – Driving Innovation Through Customer Insights with Innovate UK EDGE
DESCRIPTION:The importance of customer feedback when developing new products and services is often just not as simple as asking what they want!.
URL:https://bedotdev.com/newanglia/event/suna-masterclass-driving-innovation-through-customer-insights-with-innovate-uk-edge/
ATTACH;FMTTYPE=image/png:https://bedotdev.com/newanglia/wp-content/uploads/2021/10/SUNA-ONLINE-EVENT-1-300x300-1.png
END:VEVENT
BEGIN:VEVENT
DTSTART;TZID=Europe/London:20211111T110000
DTEND;TZID=Europe/London:20211111T170000
DTSTAMP:20260425T153048
CREATED:20211015T104345Z
LAST-MODIFIED:20211015T104345Z
UID:55881-1636628400-1636650000@bedotdev.com
SUMMARY:The Points-based immigration system and the status of EU citizens
DESCRIPTION:Please join officials from the Home Office’s Engagement and Policy teams for a webinar on the Points-based immigration system and EU Settlement Scheme.
URL:https://bedotdev.com/newanglia/event/the-points-based-immigration-system-and-the-status-of-eu-citizens/
ATTACH;FMTTYPE=image/png:https://bedotdev.com/newanglia/wp-content/uploads/2021/10/New-Anglia-LEP-Event-1-300x300-1.png
END:VEVENT
BEGIN:VEVENT
DTSTART;TZID=Europe/London:20211109T113000
DTEND;TZID=Europe/London:20211109T170000
DTSTAMP:20260425T153048
CREATED:20211015T104303Z
LAST-MODIFIED:20211015T104303Z
UID:55879-1636457400-1636477200@bedotdev.com
SUMMARY:Scale Up New Anglia: Exploring Pathways – Innovate UK Edge (Exemplas\, St Johns\, Scale Up)
DESCRIPTION:Learn about the support\, programmes and development opportunities available to you and your business to help scale up your growth…
URL:https://bedotdev.com/newanglia/event/scale-up-new-anglia-exploring-pathways-innovate-uk-edge-exemplas-st-johns-scale-up/
ATTACH;FMTTYPE=image/png:https://bedotdev.com/newanglia/wp-content/uploads/2021/10/SUNA-ONLINE-EVENT-1-300x300-1.png
END:VEVENT
BEGIN:VEVENT
DTSTART;TZID=Europe/London:20211109T103000
DTEND;TZID=Europe/London:20211109T170000
DTSTAMP:20260425T153048
CREATED:20211015T104228Z
LAST-MODIFIED:20211015T104228Z
UID:55877-1636453800-1636477200@bedotdev.com
SUMMARY:Scale Up New Anglia: Exploring Pathways – The Sounding Board
DESCRIPTION:Learn about the support\, programmes and development opportunities available to you and your business to help scale up your growth…
URL:https://bedotdev.com/newanglia/event/scale-up-new-anglia-exploring-pathways-the-sounding-board/
ATTACH;FMTTYPE=image/png:https://bedotdev.com/newanglia/wp-content/uploads/2021/10/SUNA-ONLINE-EVENT-1-300x300-1.png
END:VEVENT
BEGIN:VEVENT
DTSTART;TZID=Europe/London:20211109T093000
DTEND;TZID=Europe/London:20211109T170000
DTSTAMP:20260425T153048
CREATED:20211015T104137Z
LAST-MODIFIED:20211015T104137Z
UID:55875-1636450200-1636477200@bedotdev.com
SUMMARY:Scale Up New Anglia: Exploring Pathways – Grant Thornton
DESCRIPTION:Learn about the support\, programmes and development opportunities available to you and your business to help scale up your growth…
URL:https://bedotdev.com/newanglia/event/scale-up-new-anglia-exploring-pathways-grant-thornton-2/
ATTACH;FMTTYPE=image/png:https://bedotdev.com/newanglia/wp-content/uploads/2021/10/SUNA-ONLINE-EVENT-1-300x300-1.png
END:VEVENT
BEGIN:VEVENT
DTSTART;TZID=Europe/London:20211109T093000
DTEND;TZID=Europe/London:20211109T170000
DTSTAMP:20260425T153048
CREATED:20211015T104005Z
LAST-MODIFIED:20211015T104005Z
UID:55873-1636450200-1636477200@bedotdev.com
SUMMARY:Scale Up New Anglia: Exploring Pathways – Grant Thornton
DESCRIPTION:Learn about the support\, programmes and development opportunities available to you and your business to help scale up your growth…
URL:https://bedotdev.com/newanglia/event/scale-up-new-anglia-exploring-pathways-grant-thornton/
ATTACH;FMTTYPE=image/png:https://bedotdev.com/newanglia/wp-content/uploads/2021/10/SUNA-ONLINE-EVENT-1-300x300-1.png
END:VEVENT
BEGIN:VEVENT
DTSTART;TZID=Europe/London:20211104T120000
DTEND;TZID=Europe/London:20211104T170000
DTSTAMP:20260425T153048
CREATED:20211015T103920Z
LAST-MODIFIED:20211015T104057Z
UID:55870-1636027200-1636045200@bedotdev.com
SUMMARY:The Ingredients for Success
DESCRIPTION:Join us for The Ingredients for Success and meet guest speaker Candice Brown\, winner of the 2016 Great British Bake-Off\, and successful local businesswoman and entrepreneur
URL:https://bedotdev.com/newanglia/event/the-ingredients-for-success/
ATTACH;FMTTYPE=image/png:https://bedotdev.com/newanglia/wp-content/uploads/2021/10/Ingredients-for-Success-Eventbrite-300x300-1.png
END:VEVENT
BEGIN:VEVENT
DTSTART;TZID=Europe/London:20211101T100000
DTEND;TZID=Europe/London:20211101T170000
DTSTAMP:20260425T153048
CREATED:20211015T103558Z
LAST-MODIFIED:20211015T103558Z
UID:55867-1635760800-1635786000@bedotdev.com
SUMMARY:E-commerce Fundamentals – understanding the keys to ecommerce
DESCRIPTION:Learn about selling online during this interactive workshop about how to engage with e-commerce and help plan your path to business online
URL:https://bedotdev.com/newanglia/event/e-commerce-fundamentals-understanding-the-keys-to-ecommerce/
ATTACH;FMTTYPE=image/jpeg:https://bedotdev.com/newanglia/wp-content/uploads/2021/10/GH-event-3-300x300-1.jpg
END:VEVENT
BEGIN:VEVENT
DTSTART;TZID=Europe/London:20211026T140000
DTEND;TZID=Europe/London:20211026T170000
DTSTAMP:20260425T153048
CREATED:20211015T103519Z
LAST-MODIFIED:20211015T103519Z
UID:55865-1635256800-1635267600@bedotdev.com
SUMMARY:Understanding Tax: SEIS/EIS
DESCRIPTION:Our expert speaker is Colin Downing\, BDO. Colin is a Senior Tax Manager and deals with a wide range of businesses and corporate groups across a number of sectors.
URL:https://bedotdev.com/newanglia/event/understanding-tax-seis-eis/
ATTACH;FMTTYPE=image/jpeg:https://bedotdev.com/newanglia/wp-content/uploads/2021/10/GH2-300x212-1.jpg
END:VEVENT
BEGIN:VEVENT
DTSTART;TZID=Europe/London:20211021T100000
DTEND;TZID=Europe/London:20211021T170000
DTSTAMP:20260425T153048
CREATED:20211015T103308Z
LAST-MODIFIED:20211015T103308Z
UID:55862-1634810400-1634835600@bedotdev.com
SUMMARY:SUNA Masterclass – Marketing to a Changing Audience with Creative Quills
DESCRIPTION:We’ve all had to change our game plan over the last year or two. How do you adapt your marketing strategy?…
URL:https://bedotdev.com/newanglia/event/suna-masterclass-marketing-to-a-changing-audience-with-creative-quills/
ATTACH;FMTTYPE=image/png:https://bedotdev.com/newanglia/wp-content/uploads/2021/10/SUNA-ONLINE-EVENT-1-300x300-1.png
END:VEVENT
BEGIN:VEVENT
DTSTART;TZID=Europe/London:20211019T140000
DTEND;TZID=Europe/London:20211019T170000
DTSTAMP:20260425T153048
CREATED:20211015T103226Z
LAST-MODIFIED:20211015T103226Z
UID:55859-1634652000-1634662800@bedotdev.com
SUMMARY:Funding your business idea: Investment readiness
DESCRIPTION:Nitin Patel is an independent consultant and lecturer on business transformation\, with experience of change and scale-up in global corporations up to £100bn. William Millar has been responsible for developing and launching new products and services\, undertaking specialist sales and consultancy and designing new process solutions leading to cost reduction.
URL:https://bedotdev.com/newanglia/event/funding-your-business-idea-investment-readiness/
ATTACH;FMTTYPE=image/jpeg:https://bedotdev.com/newanglia/wp-content/uploads/2021/10/GH2-300x212-1.jpg
END:VEVENT
BEGIN:VEVENT
DTSTART;TZID=Europe/London:20211015T123000
DTEND;TZID=Europe/London:20211015T170000
DTSTAMP:20260425T153048
CREATED:20211015T103130Z
LAST-MODIFIED:20211015T103130Z
UID:55856-1634301000-1634317200@bedotdev.com
SUMMARY:Angels@Essex Female Founders and Investors
DESCRIPTION:Join us for networking with the Angels@Essex Female Founders and Investors network\, featuring guests Gina Gardiner and Hatty Fawcett.
URL:https://bedotdev.com/newanglia/event/angelsessex-female-founders-and-investors/
ATTACH;FMTTYPE=image/jpeg:https://bedotdev.com/newanglia/wp-content/uploads/2021/10/GH1-300x300-1.jpg
END:VEVENT
BEGIN:VEVENT
DTSTART;TZID=Europe/London:20211015T080000
DTEND;TZID=Europe/London:20211015T170000
DTSTAMP:20260425T153048
CREATED:20211015T104703Z
LAST-MODIFIED:20211015T104703Z
UID:55888-1634284800-1634317200@bedotdev.com
SUMMARY:Free Google mentoring – various dates
DESCRIPTION:Google mentoring\, with Enterprise Nation\, can support you to develop essential business digital skills
URL:https://bedotdev.com/newanglia/event/free-google-mentoring-various-dates/
ATTACH;FMTTYPE=image/png:https://bedotdev.com/newanglia/wp-content/uploads/2021/10/Google-mentoring-Twitter-1-1-300x300-1.png
END:VEVENT
BEGIN:VEVENT
DTSTART;TZID=Europe/London:20211007T093000
DTEND;TZID=Europe/London:20211007T170000
DTSTAMP:20260425T153048
CREATED:20211015T104612Z
LAST-MODIFIED:20211015T104612Z
UID:55886-1633599000-1633626000@bedotdev.com
SUMMARY:SUNA Masterclass – HR & People
DESCRIPTION:Following on from the success of our Digital Marketing programme we are now pleased to say we are going to be running a HR & People programme in 2022. \nWe have teamed up with HR Elite who have designed a tailored made course\, based on the challenges that our SUNA members face on a daily basis within their business.
URL:https://bedotdev.com/newanglia/event/suna-masterclass-hr-people/
ATTACH;FMTTYPE=image/png:https://bedotdev.com/newanglia/wp-content/uploads/2021/10/SUNA-ONLINE-EVENT-1-300x300-1.png
END:VEVENT
END:VCALENDAR